BEGIN:VCALENDAR
VERSION:2.0
METHOD:PUBLISH
BEGIN:VEVENT
DTSTART:20250306T173000
DTEND:20250306T173000
LOCATION:Podkarpackie Centrum Innowacji ul. Teofila Lenartowicza 4  Rzeszów
TRANSP: OPAQUE
SEQUENCE:0
UID:
DTSTAMP:20260420T174827Z
SUMMARY:Spotkanie Business Mixer
DESCRIPTION:Zapraszamy w czwartek 6 marca na kolejne spotkanie Izby - Podkarpacki Samorząd Gospodarczy.Tym razem gościmy u członka naszej Izby - w Podkarpackim Centrum Innowacji przy ul. Lenartowicza 4 w......
URL:https://app.evenea.pl/event/835457-23/
PRIORITY:1
CLASS:PUBLIC
END:VEVENT
END:VCALENDAR
