BEGIN:VCALENDAR
VERSION:2.0
METHOD:PUBLISH
BEGIN:VEVENT
DTSTART:20250403T170000
DTEND:20250403T170000
LOCATION:Hotel Blue Diamond Nowa Wieś 414, 36-001 Trzebownisko  Trzebownisko
TRANSP: OPAQUE
SEQUENCE:0
UID:
DTSTAMP:20260420T181327Z
SUMMARY:Kwietniowe spotkanie Podkarpackiego Samorządu Gospodarczego
DESCRIPTION:Zapraszamy serdecznie już 3 kwietnia na kolejne spotkanie naszej Izby. Kwietniowe spotkanie będzie Walnym Zgromadzeniem Izby Gospodarczej - Podkarpacki Samorząd Gospodarczy.Spotykamy się......
URL:https://app.evenea.pl/event/835457-24/
PRIORITY:1
CLASS:PUBLIC
END:VEVENT
END:VCALENDAR
