BEGIN:VCALENDAR
VERSION:2.0
METHOD:PUBLISH
BEGIN:VEVENT
DTSTART:20250606T170000
DTEND:20250606T170000
LOCATION:Hotel Blue Diamond Nowa Wieś 414, 36-001 Trzebownisko  Trzebownisko
TRANSP: OPAQUE
SEQUENCE:0
UID:
DTSTAMP:20260420T160234Z
SUMMARY:Spotkanie Business Mixer
DESCRIPTION: Szanowni Państwo,W jakim kierunku zmierza polska gospodarka i w jakim stopniu obecne zmiany na świecie będą dotyczyć polskich przedsiębiorców? Na te i wiele innych pytań odpowiedzą na......
URL:https://app.evenea.pl/event/835457-27/
PRIORITY:1
CLASS:PUBLIC
END:VEVENT
END:VCALENDAR
