BEGIN:VCALENDAR
VERSION:2.0
METHOD:PUBLISH
BEGIN:VEVENT
DTSTART:20251003T170000
DTEND:20251003T170000
LOCATION:Winnica Widokowa ul. Widokowa 67  Kombornia
TRANSP: OPAQUE
SEQUENCE:0
UID:
DTSTAMP:20260420T160148Z
SUMMARY:Spotkanie Business Mixer
DESCRIPTION:Na najbliższe spotkanie Członków naszej Izby zapraszamy Państwa wyjątkowo w piątek (3.10.2025, godz. 17.00) w miejsce z dużym potencjałem biznesowym, posiadające niezwykły klimat: do......
URL:https://app.evenea.pl/event/835457-33/
PRIORITY:1
CLASS:PUBLIC
END:VEVENT
END:VCALENDAR
