BEGIN:VCALENDAR
VERSION:2.0
METHOD:PUBLISH
BEGIN:VEVENT
DTSTART:20251106T170000
DTEND:20251106T170000
LOCATION:Hotel blue Diamond Nowa Wieś 414, 36-001 Trzebownisko  Trzebownisko
TRANSP: OPAQUE
SEQUENCE:0
UID:
DTSTAMP:20260420T160154Z
SUMMARY:Spotkanie Business Mixer
DESCRIPTION:Zapraszamy serdecznie na listopadowe spotkanie członków Izby - czwartek 6 listopada 2025, godz. 17.00, Hotel Blue Diamond.W części merytorycznej skoncentrujemy się na zmianach prawnych......
URL:https://app.evenea.pl/event/835457-34/
PRIORITY:1
CLASS:PUBLIC
END:VEVENT
END:VCALENDAR
