BEGIN:VCALENDAR
VERSION:2.0
METHOD:PUBLISH
BEGIN:VEVENT
DTSTART:20260123T180000
DTEND:20260123T180000
LOCATION:Zielony Kompleks Dwór Ostoya Jasionka 1A  Jasionka
TRANSP: OPAQUE
SEQUENCE:0
UID:
DTSTAMP:20260420T150233Z
SUMMARY:Spotkanie biznesowe
DESCRIPTION:W imieniu Podkarpackiego Samorządu Gospodarczego oraz Business Centre Club Loża Rzeszowska mamy ogromną przyjemność zaprosić Państwa już teraz na Bal Karnawałowy, który odbędzie......
URL:https://app.evenea.pl/event/835457-37/
PRIORITY:1
CLASS:PUBLIC
END:VEVENT
END:VCALENDAR
