BEGIN:VCALENDAR
VERSION:2.0
METHOD:PUBLISH
BEGIN:VEVENT
DTSTART:20210618T100000
DTEND:20210618T100000
LOCATION:spotkanie online   
TRANSP: OPAQUE
SEQUENCE:0
UID:
DTSTAMP:20260425T220358Z
SUMMARY:Estoński CIT - możliwości wykorzystania przez branżę IT
DESCRIPTION:SoDA wspólnie z ekspertami z KPMG serdecznie zaprasza na webinar SoDA "Estoński CIT - możliwości wykorzystania przez branżę IT", który odbędzie się 18 czerwca (piątek) o godz. 10.00.......
URL:https://app.evenea.pl/event/835626-106/
PRIORITY:1
CLASS:PUBLIC
END:VEVENT
END:VCALENDAR
