BEGIN:VCALENDAR
VERSION:2.0
METHOD:PUBLISH
BEGIN:VEVENT
DTSTART:20221020T110000
DTEND:20221020T110000
LOCATION:Spotkanie online   
TRANSP: OPAQUE
SEQUENCE:0
UID:
DTSTAMP:20260424T111436Z
SUMMARY:Zabezpieczenie płynności finansowej w SH. Ubezpieczenie, windykacja, monitoring
DESCRIPTION:Zapraszamy na webinar SoDA z ramienia komitetu Partnerstw: Zabezpieczenie płynności finansowej w SH. Ubezpieczenie, windykacja, monitoring.Podczas spotkania prelegent zaprezentuje korzyści......
URL:https://app.evenea.pl/event/835626-155/
PRIORITY:1
CLASS:PUBLIC
END:VEVENT
END:VCALENDAR
