BEGIN:VCALENDAR
VERSION:2.0
METHOD:PUBLISH
BEGIN:VEVENT
DTSTART:20240313T110000
DTEND:20240313T110000
LOCATION:Spotkanie Online   
TRANSP: OPAQUE
SEQUENCE:0
UID:
DTSTAMP:20260421T154645Z
SUMMARY:SoDA & LinkedIn: LinkedIn 101 - Best Practices and 'Rock your Profile Session' #1
DESCRIPTION:Pierwszy z cyklu 5 szkoleń webinar organizowany we współpracy z LinkedIn - topowym, międzynarodowym serwisem społecznościowym, specjalizującym się w kontaktach zawodowo-biznesowych. 🟢......
URL:https://app.evenea.pl/event/835626-254kn/
PRIORITY:1
CLASS:PUBLIC
END:VEVENT
END:VCALENDAR
