BEGIN:VCALENDAR
VERSION:2.0
METHOD:PUBLISH
BEGIN:VEVENT
DTSTART:20240327T110000
DTEND:20240327T110000
LOCATION:Spotkanie Online   
TRANSP: OPAQUE
SEQUENCE:0
UID:
DTSTAMP:20260421T155626Z
SUMMARY:SoDA & LinkedIn: LinkedIn Learning Overview, Benefits and Best Practices #2
DESCRIPTION:Drugi z cyklu 5 szkoleń webinar organizowany we współpracy z LinkedIn - topowym, międzynarodowym serwisem społecznościowym, specjalizującym się w kontaktach zawodowo-biznesowych. 🟢......
URL:https://app.evenea.pl/event/835626-254kns/
PRIORITY:1
CLASS:PUBLIC
END:VEVENT
END:VCALENDAR
