BEGIN:VCALENDAR
VERSION:2.0
METHOD:PUBLISH
BEGIN:VEVENT
DTSTART:20240508T110000
DTEND:20240508T110000
LOCATION:Spotkanie Online   
TRANSP: OPAQUE
SEQUENCE:0
UID:
DTSTAMP:20260421T161128Z
SUMMARY:SoDA & LinkedIn:  LinkedIn Sales Solutions Overview, Benefits and Best Practices #5
DESCRIPTION:Piąty webinar z cyklu szkoleń organizowanych we współpracy SoDA z LinkedIn - topowym, międzynarodowym serwisem społecznościowym, specjalizującym się w kontaktach zawodowo-biznesowych.🟢......
URL:https://app.evenea.pl/event/835626-254knx/
PRIORITY:1
CLASS:PUBLIC
END:VEVENT
END:VCALENDAR
