BEGIN:VCALENDAR
VERSION:2.0
METHOD:PUBLISH
BEGIN:VEVENT
DTSTART:20240424T110000
DTEND:20240424T110000
LOCATION:Spotkanie Online   
TRANSP: OPAQUE
SEQUENCE:0
UID:
DTSTAMP:20260421T154751Z
SUMMARY:SoDA & LinkedIn: LinkedIn Industry and Country Insights (Overview of Talent and Skills Trends in Poland and across the IT Sector) #4
DESCRIPTION:SoDA zaprasza Cię na na czwarty z pięciu szkoleń organizowanych we współpracy SoDA z LinkedIn - topowym, międzynarodowym serwisem społecznościowym, specjalizującym się w kontaktach......
URL:https://app.evenea.pl/event/835626-254kx/
PRIORITY:1
CLASS:PUBLIC
END:VEVENT
END:VCALENDAR
