BEGIN:VCALENDAR
VERSION:2.0
METHOD:PUBLISH
BEGIN:VEVENT
DTSTART:20240410T110000
DTEND:20240410T110000
LOCATION:Spotkanie Online   
TRANSP: OPAQUE
SEQUENCE:0
UID:
DTSTAMP:20260421T154604Z
SUMMARY:SoDA & LinkedIn: LinkedIn Talent Solutions Overview, Benefits and Best Practices (includes deep-dive on Hiring, Branding and Insights) #3
DESCRIPTION:Trzeci z pięciu szkoleń organizowanych we współpracy SoDA z LinkedIn - topowym, międzynarodowym serwisem społecznościowym, specjalizującym się w kontaktach zawodowo-biznesowych.🟢 Temat:......
URL:https://app.evenea.pl/event/835626-254x/
PRIORITY:1
CLASS:PUBLIC
END:VEVENT
END:VCALENDAR
