BEGIN:VCALENDAR
VERSION:2.0
METHOD:PUBLISH
BEGIN:VEVENT
DTSTART:20241203T110000
DTEND:20241203T110000
LOCATION:Spotkanie online   
TRANSP: OPAQUE
SEQUENCE:0
UID:
DTSTAMP:20260425T045821Z
SUMMARY:Webinar: Hackowanie stresu - obalanie mitów, odkrywanie korzyści, rady na toksyczny wpływ stresu na myślenie, zachowania, efektywność
DESCRIPTION:Zapraszamy na kolejny webinar SoDA z cyklu spotkań dotyczących zdrowia psychicznego. 🟢 Temat: Hackowanie stresu - obalanie mitów, odkrywanie korzyści, rady na toksyczny wpływ stresu na......
URL:https://app.evenea.pl/event/835626-31webinar/
PRIORITY:1
CLASS:PUBLIC
END:VEVENT
END:VCALENDAR
