BEGIN:VCALENDAR
VERSION:2.0
METHOD:PUBLISH
BEGIN:VEVENT
DTSTART:20200121T090000
DTEND:20200121T120000
LOCATION:Elbląski Park Technologiczny Sulimy 1  Elbląg
TRANSP: OPAQUE
SEQUENCE:0
UID:
DTSTAMP:20260422T190620Z
SUMMARY:Śniadanie biznesowe z funduszami unijnymi na 2020 rok
DESCRIPTION:W jaki sposób można uzyskać pieniądze na rozwój firmy, eksport i promocję, opracowanie innowacji i projekty badawcze? Jak sfinansować zakup sprzętu, maszyn, oprogramowania? Co kryje się......
URL:https://app.evenea.pl/event/835791-6/
PRIORITY:1
CLASS:PUBLIC
END:VEVENT
END:VCALENDAR
