BEGIN:VCALENDAR
VERSION:2.0
METHOD:PUBLISH
BEGIN:VEVENT
DTSTART:20200128T090000
DTEND:20200128T120000
LOCATION:Gdański Park Naukowo-Technologiczny Trzy lipy 3  Gdańsk
TRANSP: OPAQUE
SEQUENCE:0
UID:
DTSTAMP:20260422T202842Z
SUMMARY:Śniadanie biznesowe z funduszami unijnymi na 2020 rok
DESCRIPTION:W jaki sposób można uzyskać pieniądze na rozwój firmy, eksport i promocję, opracowanie innowacji i projekty badawcze? Jak sfinansować zakup sprzętu, maszyn, oprogramowania? Co kryje się......
URL:https://app.evenea.pl/event/835791-6kopia1/
PRIORITY:1
CLASS:PUBLIC
END:VEVENT
END:VCALENDAR
