BEGIN:VCALENDAR
VERSION:2.0
METHOD:PUBLISH
BEGIN:VEVENT
DTSTART:20221130T110000
DTEND:20221130T110000
LOCATION:Olsztyński Park Naukowo-Technologiczny ul. Trylińskiego 2,  Olsztyn
TRANSP: OPAQUE
SEQUENCE:0
UID:
DTSTAMP:20260423T023614Z
SUMMARY:Zwiększ skuteczność reklam internetowych
DESCRIPTION:Zwiększ skuteczność reklam internetowych Google, PFR i OChK oraz Olsztyński Park Naukowo-Technologiczny zapraszają na szkolenie w ramach programu Firmy Jutra, w trakcie którego dowiesz się......
URL:https://app.evenea.pl/event/836426-16/
PRIORITY:1
CLASS:PUBLIC
END:VEVENT
END:VCALENDAR
