BEGIN:VCALENDAR
VERSION:2.0
METHOD:PUBLISH
BEGIN:VEVENT
DTSTART:20251027T090000
DTEND:20251027T160000
LOCATION:Olsztyński Park Naukowo-Technologiczny Trylińskiego 2, budynek BK  Olsztyn
TRANSP: OPAQUE
SEQUENCE:0
UID:
DTSTAMP:20260425T045010Z
SUMMARY:SysChange - gra strategiczna dot. zarządzania zmianą
DESCRIPTION:Olsztyński Park Naukowo-Technologiczny i firma ITM Software House zapraszają do udziału w szkoleniu z zarządzania zmianą opartym na grze SysTeamsChangeSysTeamsChange - gra symulacyjna dla......
URL:https://app.evenea.pl/event/836426-20/
PRIORITY:1
CLASS:PUBLIC
END:VEVENT
END:VCALENDAR
