BEGIN:VCALENDAR
VERSION:2.0
METHOD:PUBLISH
BEGIN:VEVENT
DTSTART:20210313T150000
DTEND:20210313T173000
LOCATION:online   
TRANSP: OPAQUE
SEQUENCE:0
UID:
DTSTAMP:20260424T171415Z
SUMMARY:Asertywność - jak odmawiać i wyznaczać granice? - warsztat Asertywna.com.pl
DESCRIPTION:Zapraszam Cię na wyjątkowe szkolenie online podczas, którego poświęcisz czas najważniejszej osobie: SOBIE SAMEJ/SAMEMU. TEN WARSZTAT JEST DLA CIEBIE JEŚLI:Często zgadzasz się na coś,......
URL:https://app.evenea.pl/event/836760-9kopia1/
PRIORITY:1
CLASS:PUBLIC
END:VEVENT
END:VCALENDAR
