BEGIN:VCALENDAR
VERSION:2.0
METHOD:PUBLISH
BEGIN:VEVENT
DTSTART:20200312T173000
DTEND:20200312T203000
LOCATION:Progressus Ul. Zawieprzycka 8L  Lublin
TRANSP: OPAQUE
SEQUENCE:0
UID:
DTSTAMP:20260425T172314Z
SUMMARY:Festiwal Wielka Podróż Bohatera - Lublin
DESCRIPTION:Wielka Podróż Bohatera®to ogólnopolski festiwal niesamowitej gry rozwojowej Podróż Bohatera®. Kilkanaście wydarzeń rozwojowych w całej Polsce i niepowtarzalna okazja do przeżycia......
URL:https://app.evenea.pl/event/836872-12/
PRIORITY:1
CLASS:PUBLIC
END:VEVENT
END:VCALENDAR
