BEGIN:VCALENDAR
VERSION:2.0
METHOD:PUBLISH
BEGIN:VEVENT
DTSTART:20210306T180000
DTEND:20210306T200000
LOCATION:   
TRANSP: OPAQUE
SEQUENCE:0
UID:
DTSTAMP:20260426T031838Z
SUMMARY:Neonowe miasto
DESCRIPTION:Kobieta, która nie wie co to lęk wysokości, mężczyzna wciąż wierzący w siłę papierowych mediów i zebra ze słodką nadwagą - to wcale nie postaci z bajek. A jednak to właśnie dzięki......
URL:https://app.evenea.pl/event/837347-103/
PRIORITY:1
CLASS:PUBLIC
END:VEVENT
END:VCALENDAR
