BEGIN:VCALENDAR
VERSION:2.0
METHOD:PUBLISH
BEGIN:VEVENT
DTSTART:20230819T150000
DTEND:20230819T150000
LOCATION:Warsztaty kulinarne Rozmaryn i Bazylia ul. Franciszka Zubrzyckiego 3  Gdańsk Wrzeszcz
TRANSP: OPAQUE
SEQUENCE:0
UID:
DTSTAMP:20260422T044654Z
SUMMARY:Warsztaty kulinarne dla dorosłych "MAROKO"
DESCRIPTION:Serdecznie zapraszam na warsztaty kulinarne dla dorosłych "MAROKO". Zabiorę Was w kulinarną podróż do północnoafrykańskiego kraju, jakim jest Maroko słynącego głównie z taijne ale nie......
URL:https://app.evenea.pl/event/838099-100/
PRIORITY:1
CLASS:PUBLIC
END:VEVENT
END:VCALENDAR
