BEGIN:VCALENDAR
VERSION:2.0
METHOD:PUBLISH
BEGIN:VEVENT
DTSTART:20231209T150000
DTEND:20231209T150000
LOCATION:Warsztaty kulinarne Rozmaryn i Bazylia ul. Franciszka Zubrzyckiego 3  Gdańsk Wrzeszcz
TRANSP: OPAQUE
SEQUENCE:0
UID:
DTSTAMP:20260422T012817Z
SUMMARY:Śródziemnomorkie warsztaty kulinarne cz.II
DESCRIPTION:Serdecznie zapraszam na warsztaty kulinarne dla dorosłych Tym razem zabiorę Was w kulinarną podróż wokół Morza Śródziemnego. Wybierzecie się ze mną...? :)W programie:- sałatka......
URL:https://app.evenea.pl/event/838099-106/
PRIORITY:1
CLASS:PUBLIC
END:VEVENT
END:VCALENDAR
