BEGIN:VCALENDAR
VERSION:2.0
METHOD:PUBLISH
BEGIN:VEVENT
DTSTART:20240210T150000
DTEND:20240210T150000
LOCATION:Warsztaty kulinarne Rozmaryn i Bazylia ul. Franciszka Zubrzyckiego 3  Gdańsk Wrzeszcz
TRANSP: OPAQUE
SEQUENCE:0
UID:
DTSTAMP:20260422T014303Z
SUMMARY:Warsztaty kulinarne ALE JAJA :)
DESCRIPTION:Chcesz przeżyć niesamowitą przygodę kulinarną, nauczyć się gotować a przy okazji spędzić miło czas w małym, kameralnym gronie i napić się wina...? To serdecznie zapraszam na warsztaty......
URL:https://app.evenea.pl/event/838099-110/
PRIORITY:1
CLASS:PUBLIC
END:VEVENT
END:VCALENDAR
