BEGIN:VCALENDAR
VERSION:2.0
METHOD:PUBLISH
BEGIN:VEVENT
DTSTART:20240802T170000
DTEND:20240804T200000
LOCATION:Warsztaty kulinarne Rozmaryn i Bazylia ul. Franciszka Zubrzyckiego 3  Gdańsk Wrzeszcz
TRANSP: OPAQUE
SEQUENCE:0
UID:
DTSTAMP:20260421T232138Z
SUMMARY:Kurs kulinarny dla dorosłych 02-04.08
DESCRIPTION:Chcesz przeżyć niesamowitą przygodę kulinarną, nauczyć się gotować a przy okazji spędzić miło czas w małym, kameralnym gronie i napić się wina...? A przy okazji masz jeszcze 3 dni......
URL:https://app.evenea.pl/event/838099-125/
PRIORITY:1
CLASS:PUBLIC
END:VEVENT
END:VCALENDAR
