BEGIN:VCALENDAR
VERSION:2.0
METHOD:PUBLISH
BEGIN:VEVENT
DTSTART:20241207T150000
DTEND:20241207T150000
LOCATION:Warsztaty kulinarne Rozmaryn i Bazylia ul. Franciszka Zubrzyckiego 3  Gdańsk
TRANSP: OPAQUE
SEQUENCE:0
UID:
DTSTAMP:20260423T092034Z
SUMMARY:Warsztaty kulinarne Napoje rozgrzewające
DESCRIPTION:Na razie mamy piękny październik, słonko świeci, temperatury wysokie jak na tę porę roku - CHWILO TRWAJ!!!. Ale niestety wielkimi krokami zbliża się jesień a z nią... plucha, deszcz,......
URL:https://app.evenea.pl/event/838099-129/
PRIORITY:1
CLASS:PUBLIC
END:VEVENT
END:VCALENDAR
