BEGIN:VCALENDAR
VERSION:2.0
METHOD:PUBLISH
BEGIN:VEVENT
DTSTART:20211114T110000
DTEND:20211114T130000
LOCATION:Warszaty kulinarne Rozmaryn i Bazylia ul. Franciszka Zubrzyckiego 3  Gdańsk Wrzeszcz
TRANSP: OPAQUE
SEQUENCE:0
UID:
DTSTAMP:20260421T215231Z
SUMMARY:Warsztaty kulinarne dla dzieci "Avocado from Mexico"
DESCRIPTION:Serdecznie zapraszam dzieci powyżej 8 lat na warsztaty kulinarne "Avocado from Mexico"W programie:- quacamole, czyli pasta z awokado podawana na grzance z jajkiem sadzonym- rozgrzewająca zupa......
URL:https://app.evenea.pl/event/838099-19/
PRIORITY:1
CLASS:PUBLIC
END:VEVENT
END:VCALENDAR
