BEGIN:VCALENDAR
VERSION:2.0
METHOD:PUBLISH
BEGIN:VEVENT
DTSTART:20220109T110000
DTEND:20220109T130000
LOCATION:Warsztaty kulinarne Rozmaryn i Bazylia ul. Franciszka Zubrzyckiego 3  Gdańsk Wrzeszcz
TRANSP: OPAQUE
SEQUENCE:0
UID:
DTSTAMP:20260423T122044Z
SUMMARY:Warsztaty kulinarne dla dzieci Karnawał i tapas
DESCRIPTION:Serdecznie zapraszam dzieci powyżej 8 lat na warsztaty kulinarne "Karnawał i tapas"W programie:- przygotowywanie małych przekąsek typu hiszpańskie tapas (kreatywność mile widziana :)na......
URL:https://app.evenea.pl/event/838099-25/
PRIORITY:1
CLASS:PUBLIC
END:VEVENT
END:VCALENDAR
