BEGIN:VCALENDAR
VERSION:2.0
METHOD:PUBLISH
BEGIN:VEVENT
DTSTART:20220424T110000
DTEND:20220424T130000
LOCATION:Warsztaty kulinarne Rozmaryn i Bazylia ul. Franciszka Zubrzyckiego 3  Gdańsk Wrzeszcz
TRANSP: OPAQUE
SEQUENCE:0
UID:
DTSTAMP:20260422T030233Z
SUMMARY:Warsztaty kulinarne dla dzieci "Rolowane, zawijane"
DESCRIPTION:Serdecznie zapraszam dzieci powyżej 8 lat na warsztaty kulinarne "Rolowane, zawijane"W programie:- roladki z bakłażana i papryki z pastą z orzechów włoskich- tortille zawijane z serkiem,......
URL:https://app.evenea.pl/event/838099-40/
PRIORITY:1
CLASS:PUBLIC
END:VEVENT
END:VCALENDAR
