BEGIN:VCALENDAR
VERSION:2.0
METHOD:PUBLISH
BEGIN:VEVENT
DTSTART:20210104T100000
DTEND:20210108T140000
LOCATION:Warsztaty kulinarne Rozmaryn i Bazylia ul. Franciszka Zubrzyckiego 3  Gdańsk
TRANSP: OPAQUE
SEQUENCE:0
UID:
DTSTAMP:20260421T075836Z
SUMMARY:Warsztaty kulinarne "Dookoła świata"
DESCRIPTION:Zapraszamy serdecznie na warsztaty kulinarne "Dookoła świata".Świat jest na wyciągnięcie ręki, wystarczy tylko otworzyć szeroko oczy...Z nami przeżyjecie magiczną przygodę aż w 5 krajach......
URL:https://app.evenea.pl/event/838099-6/
PRIORITY:1
CLASS:PUBLIC
END:VEVENT
END:VCALENDAR
