BEGIN:VCALENDAR
VERSION:2.0
METHOD:PUBLISH
BEGIN:VEVENT
DTSTART:20260414T140000
DTEND:20260414T180000
LOCATION:Plus Jeden Za Bramką 1  Poznań
TRANSP: OPAQUE
SEQUENCE:0
UID:
DTSTAMP:20260423T145424Z
SUMMARY:Poznań Startup Contest | Finał!
DESCRIPTION:Szukacie powiewu świeżości i projektów, które realnie chcą zmieniać świat na lepsze?Już 14 kwietnia poznański ekosystem innowacji spotka się w jednym miejscu, aby zobaczyć finałowe......
URL:https://app.evenea.pl/event/838395-17/
PRIORITY:1
CLASS:PUBLIC
END:VEVENT
END:VCALENDAR
