BEGIN:VCALENDAR
VERSION:2.0
METHOD:PUBLISH
BEGIN:VEVENT
DTSTART:20221207T113000
DTEND:20230107T000000
LOCATION:Online   
TRANSP: OPAQUE
SEQUENCE:0
UID:
DTSTAMP:20260422T200135Z
SUMMARY:Własna firma dla obywatela Ukrainy / Власна фірма для громадянина України
DESCRIPTION:szkolenie online w języku ukraińskimWydział Działalności Gospodarczej i Rolnictwa Urzędu Miasta Poznania serdecznie zaprasza obywateli Ukrainy na szkolenie pt.: "Własna firma dla obywatela......
URL:https://app.evenea.pl/event/838689-163/
PRIORITY:1
CLASS:PUBLIC
END:VEVENT
END:VCALENDAR
