BEGIN:VCALENDAR
VERSION:2.0
METHOD:PUBLISH
BEGIN:VEVENT
DTSTART:20230125T090000
DTEND:20230125T090000
LOCATION:Online   
TRANSP: OPAQUE
SEQUENCE:0
UID:
DTSTAMP:20260420T061557Z
SUMMARY:Rozwój zawodowy - jak pozyskać dofinansowanie do szkoleń i kursów itp.
DESCRIPTION:Dodaj opis wydarzenia Poznań Biznes Partner oraz Wielkopolska Agencja Rozwoju Przedsiębiorczości zapraszają na bezpłatne spotkanie informacyjne online pt. "Rozwój zawodowy - jak pozyskać......
URL:https://app.evenea.pl/event/838689-174/
PRIORITY:1
CLASS:PUBLIC
END:VEVENT
END:VCALENDAR
