BEGIN:VCALENDAR
VERSION:2.0
METHOD:PUBLISH
BEGIN:VEVENT
DTSTART:20231124T110000
DTEND:20231124T110000
LOCATION:online   
TRANSP: OPAQUE
SEQUENCE:0
UID:
DTSTAMP:20260421T125504Z
SUMMARY:Pożyczki unijne wspierają rozwój przedsiębiorczości
DESCRIPTION:Poznań Biznes Partner oraz Wielkopolska Agencja Rozwoju Przedsiębiorczości zapraszają na spotkanie pt. Pożyczki unijne wspierają rozwój przedsiębiorczościProgram spotkania:O......
URL:https://app.evenea.pl/event/838689-252/
PRIORITY:1
CLASS:PUBLIC
END:VEVENT
END:VCALENDAR
