BEGIN:VCALENDAR
VERSION:2.0
METHOD:PUBLISH
BEGIN:VEVENT
DTSTART:20190705T170000
DTEND:20190705T200000
LOCATION:Pracownia Jezuicka  Bydgoszcz
TRANSP: OPAQUE
SEQUENCE:0
UID:
DTSTAMP:20260425T054224Z
SUMMARY:Decoupage "Papeteria"
DESCRIPTION:Pracownia i Kala-Art Koronki i Róże zapraszają na warsztaty ozdabiania techniką "decoupage" dla początkujących (P3) "Papeteria", które odbędą się 05 lipca 2019 o godzinie 17.00 w......
URL:https://app.evenea.pl/event/838727-29/
PRIORITY:1
CLASS:PUBLIC
END:VEVENT
END:VCALENDAR
