BEGIN:VCALENDAR
VERSION:2.0
METHOD:PUBLISH
BEGIN:VEVENT
DTSTART:20200730T180000
DTEND:20200730T180000
LOCATION:Regionalne Centrum Kultur Pogranicza w Krośnie ul. Kolejowa 1  Krosno
TRANSP: OPAQUE
SEQUENCE:0
UID:
DTSTAMP:20260421T021012Z
SUMMARY:Bajkowa scena: Zimowa kraina czarów
DESCRIPTION:SPEKTAKL "ZIMOWA KRAINA CZARÓW", TEATR W RUCHUw ramach cyklu: Bajkowa scena[wydarzenie w plenerze] Spektakl "Zimowa kraina czarów", Teatr w Ruchu Mieszkańcy lodowej krainy: Pingwin Tup Tup,......
URL:https://app.evenea.pl/event/840865-13/
PRIORITY:1
CLASS:PUBLIC
END:VEVENT
END:VCALENDAR
