BEGIN:VCALENDAR
VERSION:2.0
METHOD:PUBLISH
BEGIN:VEVENT
DTSTART:20200906T170000
DTEND:20200906T170000
LOCATION:Regionalne Centrum Kultur Pogranicza w Krośnie (wejście B) ul. Kolejowa 1  Krosno
TRANSP: OPAQUE
SEQUENCE:0
UID:
DTSTAMP:20260420T160154Z
SUMMARY:Koncert "Nie zapomnisz" Studio Piosenki Swing
DESCRIPTION:Koniec lata to dla domu kultury początek sezonu artystycznego, powrót zespołów na scenę, ale też czas pożegnań. W tym roku ze Studiem Piosenki Swing i pożegna się 6 wokalistów. Młodzi......
URL:https://app.evenea.pl/event/840865-19/
PRIORITY:1
CLASS:PUBLIC
END:VEVENT
END:VCALENDAR
