BEGIN:VCALENDAR
VERSION:2.0
METHOD:PUBLISH
BEGIN:VEVENT
DTSTART:20191005T170000
DTEND:20191005T210000
LOCATION:Płocki Park Przemysłowo-Technologiczny S.A. ul. Łukasiewicza 39  Płock
TRANSP: OPAQUE
SEQUENCE:0
UID:
DTSTAMP:20260419T164150Z
SUMMARY:Noc Innowacji w Płockim Parku Przemysłowo-Technologicznym
DESCRIPTION:Już 5 października 2019 r. w Płockim Parku Przemysłowo-Technologicznym przy ul. Łukasiewicza 39, odbędzie się pierwsza i niepowtarzalna "Noc Innowacji" dla dzieci i młodzieży organizowana......
URL:https://app.evenea.pl/event/841453-2/
PRIORITY:1
CLASS:PUBLIC
END:VEVENT
END:VCALENDAR
