BEGIN:VCALENDAR
VERSION:2.0
METHOD:PUBLISH
BEGIN:VEVENT
DTSTART:20210227T070000
DTEND:20210227T200000
LOCATION:PKP Rybnik - Goleszów - Jasieniowa - Tuł - Mała Czantoria - Wielka Czantoria -Ustroń Polana - PKP Rybnik   
TRANSP: OPAQUE
SEQUENCE:0
UID:
DTSTAMP:20260422T055031Z
SUMMARY:GÓRSKIE RAJZY 2021
DESCRIPTION:Miejski Ośrodek Sportu i Rekreacji (MOSiR) w Rybniku oraz ADeHaDowo Edyta Czyżewska zapraszają na piesze wycieczki z przewodnikiem w ramach GÓRSKIEJ RAJZY - ZIMA 2021Górska Rajza 27 lutego......
URL:https://app.evenea.pl/event/843023-3/
PRIORITY:1
CLASS:PUBLIC
END:VEVENT
END:VCALENDAR
