BEGIN:VCALENDAR
VERSION:2.0
METHOD:PUBLISH
BEGIN:VEVENT
DTSTART:20230318T070000
DTEND:20230318T200000
LOCATION:Zbiórka : 6:45 na parkingu przed Kąpieliskiem Ruda Gliwicka 72  Rybnik
TRANSP: OPAQUE
SEQUENCE:0
UID:
DTSTAMP:20260420T145658Z
SUMMARY:GÓRSKIE RAJZY 2023
DESCRIPTION:ADeHaDowo Edyta Czyżewska Organizacja Turystyki i Usługi oraz Miejski Ośrodek Sportu i Rekreacji (MOSiR) w Rybniku zapraszają na piesze wycieczki z przewodnikiem w ramach GÓRSKIEJ RAJZYGórska......
URL:https://app.evenea.pl/event/843023-marzec1/
PRIORITY:1
CLASS:PUBLIC
END:VEVENT
END:VCALENDAR
