BEGIN:VCALENDAR
VERSION:2.0
METHOD:PUBLISH
BEGIN:VEVENT
DTSTART:20201127T190000
DTEND:20201127T190000
LOCATION:Szkolenie online   
TRANSP: OPAQUE
SEQUENCE:0
UID:
DTSTAMP:20260421T065411Z
SUMMARY:"Ja swoje, ON swoje…a na końcu foch" - czyli o tym, co robić, żeby się nie zagadać, a dogadać! - Festiwal FRIS®
DESCRIPTION:Dobra komunikacja to podstawa - w każdym związku, w każdej relacji, w każdym układzie - zarówno w kontaktach prywatnych, jak i biznesowych.Dobra komunikacja to również to, na czym......
URL:https://app.evenea.pl/event/843038-2/
PRIORITY:1
CLASS:PUBLIC
END:VEVENT
END:VCALENDAR
