BEGIN:VCALENDAR
VERSION:2.0
METHOD:PUBLISH
BEGIN:VEVENT
DTSTART:20191009T114500
DTEND:20191010T111500
LOCATION:Wydział Pedagogiczno-Artystyczny UAM w Kaliszu, sala numer E 344 ul. Nowy Świat 28-30  Kalisz
TRANSP: OPAQUE
SEQUENCE:0
UID:
DTSTAMP:20260422T174153Z
SUMMARY:ARTONOMIA Mira Skrudlik "Zarządzanie i finansowanie projektów kulturalnych, czyli: aplikujemy o granty, wypełniamy druki, formularze, czytamy regulaminy, tworzymy budżety i harmonogramy, ewaluujemy"
DESCRIPTION:ARTONOMIA to nowy projekt edukacyjny poznańskiej Fundacji Uniwersytetu Ekonomicznego! Zapraszamy artystów, twórców, animatorów i kadry kultury, by podniosły swoje zawodowe kompetencje oraz......
URL:https://app.evenea.pl/event/843624-7/
PRIORITY:1
CLASS:PUBLIC
END:VEVENT
END:VCALENDAR
