BEGIN:VCALENDAR
VERSION:2.0
METHOD:PUBLISH
BEGIN:VEVENT
DTSTART:20191013T190000
DTEND:20191013T190000
LOCATION:Klub Stacja Muzyka Zakopiańska 26  Rumia
TRANSP: OPAQUE
SEQUENCE:0
UID:
DTSTAMP:20260424T010844Z
SUMMARY:Hammond Grooves (Brazylia) • Klub Stacja Muzyka • Rumia • 13.10
DESCRIPTION:Najlepsze jazzowe trio, jakiego jeszcze nie słyszeliście? Bardzo, bardzo prawdopodobne. Ktoś kiedyś powiedział, że nie trzeba szukać daleko, ale to nie do końca prawda, bo Hammond Grooves......
URL:https://app.evenea.pl/event/843781-1/
PRIORITY:1
CLASS:PUBLIC
END:VEVENT
END:VCALENDAR
