BEGIN:VCALENDAR
VERSION:2.0
METHOD:PUBLISH
BEGIN:VEVENT
DTSTART:20220220T180000
DTEND:20220220T180000
LOCATION:Bielański Ośrodek Kultury ul. Goldoniego 1  Bielany
TRANSP: OPAQUE
SEQUENCE:0
UID:
DTSTAMP:20260420T055300Z
SUMMARY:Koncert - Danuta Błażejczyk i Monika Urlik
DESCRIPTION:Zapraszamy na wyjątkowy koncert pt. "Każdemu wolno kochać". Artyści zagrają miłosne hity wszech czasów, tj. "All we need is love", "I love you baby", tytułowe "Każdemu wolno kochać", a......
URL:https://app.evenea.pl/event/843865-70/
PRIORITY:1
CLASS:PUBLIC
END:VEVENT
END:VCALENDAR
