BEGIN:VCALENDAR
VERSION:2.0
METHOD:PUBLISH
BEGIN:VEVENT
DTSTART:20220610T180000
DTEND:20220610T180000
LOCATION:Bielański Ośrodek Kultury ul. Goldoniego 1  Bielany
TRANSP: OPAQUE
SEQUENCE:0
UID:
DTSTAMP:20260423T191538Z
SUMMARY:Romantycznie z Herbertem - Weekend literacki | Wokół Herberta, czyli potęga smaku, albo sztuczny miód
DESCRIPTION:Poetycko-muzyczny stand up artystyczny autorstwa Dariusza JakubowskiegoWykonawcy:Dariusz Jakubowski - aktor, autor koncepcji,reżyseria - Katarzyna Thomas - sopran,Piotr Szafraniec -......
URL:https://app.evenea.pl/event/843865-82/
PRIORITY:1
CLASS:PUBLIC
END:VEVENT
END:VCALENDAR
