BEGIN:VCALENDAR
VERSION:2.0
METHOD:PUBLISH
BEGIN:VEVENT
DTSTART:20200201T090000
DTEND:20200201T090000
LOCATION:Ośrodek Ja Marszałkowska 18/12  Warszawa
TRANSP: OPAQUE
SEQUENCE:0
UID:
DTSTAMP:20260420T073828Z
SUMMARY:Grupa Rozwoju Osobistego dla Kobiet
DESCRIPTION:GRUPA ROZWOJU OSOBISTEGO DLA KOBIET skierowana jest do wszystkich Pań, które pragną rozwinąć świadomość siebie, swoich potrzeb, swojego ciała oraz własnej tożsamości.Celem grupy jest......
URL:https://app.evenea.pl/event/844402-6/
PRIORITY:1
CLASS:PUBLIC
END:VEVENT
END:VCALENDAR
