BEGIN:VCALENDAR
VERSION:2.0
METHOD:PUBLISH
BEGIN:VEVENT
DTSTART:20191117T110000
DTEND:20191117T140000
LOCATION:Park Kultury i Wypoczynku (Las Komunalny) Gliwice Chorzowska  Gliwice
TRANSP: OPAQUE
SEQUENCE:0
UID:
DTSTAMP:20260425T020532Z
SUMMARY:Glejaku masz zakaz wjazdu - bieg charytatywny dla Marysi.
DESCRIPTION:Marysia to mała, wesoła dziewczynka. Ma 6 lat, radosne oczy i piękny uśmiech. Mieszka razem ze swoimi rodzicami i bratem Filipem. Bardzo ich kocha. I lubi przytulać Filipka. Marysia ma dużo......
URL:https://app.evenea.pl/event/844582-1/
PRIORITY:1
CLASS:PUBLIC
END:VEVENT
END:VCALENDAR
