BEGIN:VCALENDAR
VERSION:2.0
METHOD:PUBLISH
BEGIN:VEVENT
DTSTART:20230629T180000
DTEND:20230629T180000
LOCATION:KinoGram / Fabryka Norblina Żelazna 51/53  Warszawa
TRANSP: OPAQUE
SEQUENCE:0
UID:
DTSTAMP:20260423T061445Z
SUMMARY:Podcast "Wehikuł Harel" z Olgą Drendą na żywo
DESCRIPTION:Kolejne spotkanie z cyklu "Podcasty Vogue Polska na żywo" połączy blogerkę modową Harel z autorką "Duchologii" Olgą Drendą. Wydarzenie odbędzie się 29 czerwca o godzinie 18:00 w......
URL:https://app.evenea.pl/event/844648-43/
PRIORITY:1
CLASS:PUBLIC
END:VEVENT
END:VCALENDAR
