BEGIN:VCALENDAR
VERSION:2.0
METHOD:PUBLISH
BEGIN:VEVENT
DTSTART:20201015T090000
DTEND:20201015T150000
LOCATION:Stadion Olimpijski we Wrocławiu Aleja Ignacego Jana Paderewskiego 35  Wrocław
TRANSP: OPAQUE
SEQUENCE:0
UID:
DTSTAMP:20260422T215555Z
SUMMARY:Konferencja "Krajobraz zmian mediacyjnych nie tylko w obliczu pandemii. Krajowy Rejestr Mediatorów - nowe regulacje dotyczące zawodu mediatora."
DESCRIPTION:Konferencja"Krajobraz zmian mediacyjnych nie tylko w obliczu pandemii.Krajowy Rejestr Mediatorów - nowe regulacje dotyczące zawodu mediatora."organizowana przez Fundację dla mediacji......
URL:https://app.evenea.pl/event/844799-2/
PRIORITY:1
CLASS:PUBLIC
END:VEVENT
END:VCALENDAR
