BEGIN:VCALENDAR
VERSION:2.0
METHOD:PUBLISH
BEGIN:VEVENT
DTSTART:20241207T130000
DTEND:20241207T130000
LOCATION:Mediateka MEMO ul. Moniuszki 5  Łódź
TRANSP: OPAQUE
SEQUENCE:0
UID:
DTSTAMP:20260426T034235Z
SUMMARY:PL MVA VII: MIKOŁAJ RUDYK I JAKUB POLACZYK - Naked Relaxing - "My devils", czyli jak zrobiliśmy dobry teledysk z pomocą AI - case study
DESCRIPTION:Mikołaj Rudyk i Jakub Polaczyk \n\nTwórcy Fūryū STUDIO. Skupiają się na wykorzystaniu najnowszych technologii w tworzeniu i postprodukcji sztuki medialnej, i cyfrowej. Współpracują ze......
URL:https://app.evenea.pl/event/848023-131/
PRIORITY:1
CLASS:PUBLIC
END:VEVENT
END:VCALENDAR
